BEGIN:VCALENDAR
VERSION:2.0
PRODID:-//81.169.145.84//NONSGML kigkonsult.se iCalcreator 2.20//
CALSCALE:GREGORIAN
METHOD:PUBLISH
X-WR-TIMEZONE:UTC
BEGIN:VEVENT
UID:event143@Autismus Selbsthilfe Südwest
DTSTAMP:20260422T114842Z
CATEGORIES:Selbsthilfetreffen
DESCRIPTION:Selbsthilfegruppe\nKategorie: Selbsthilfetreffen\nICS-Link: htt
 ps://autismus-leben.de/index.php?option=com_jem&view=event&id=143:selbsthi
 lfegruppe\n
DTSTART:20260616T180000Z
DTEND:20260616T200000Z
LOCATION:Guud Stubb\,Friedenstraße 63\,67657 Kaiserslautern
SUMMARY:Selbsthilfegruppe
URL:https://autismus-leben.de/index.php?option=com_jem&view=event&id=143:se
 lbsthilfegruppe
END:VEVENT
END:VCALENDAR